BEGIN:VCALENDAR
VERSION:2.0
PRODID:-//hacksw/handcal//NONSGML v1.0//EN
CALSCALE:GREGORIAN
BEGIN:VEVENT
DTEND:20230723T180000
UID:69e7264e8157a
DTSTAMP:20260421T092502
LOCATION:Luisenstraße 15\, 47799 Krefeld
DESCRIPTION:Die neue (Sonder-)Ausstellung im Haus der Seidenkultur widmet sich den traditionellen Trachten aus Südwest-China. Gezeigt werden einzigartige Exponate, die einmal mehr Ien Rappoldt auf ihren Forschungsreisen durch das „Land der Mitte“ aufgespürt hat.\n\nDie von Miao-Frauen hergestellte, bunt bestickte und reich mit Applikationen verzierte Kleidung, fasziniert in erster Linie durch ihre visuelle Anziehungskraft. Die Kuratorinnen Dr. Ulrike Denter und Ilka Neumann sprechen von einem „Rausch der Farben“ und einer „Explosion von Mustern“ auf die man sich bis zum 23. Juli freuen darf. Es geht um das kontrastreiche Zusammenspiel von Materialien und Techniken, Farben und Formen, die von der (Textil-)Kultur der Miao-Frauen kommuniziert wird.\n
URL;VALUE=URI:
SUMMARY:IM RAUSCH DER FARBEN Traditionelle Trachten aus Südwest-China
DTSTART:20230108T080000
END:VEVENT
END:VCALENDAR